BEGIN:VCALENDAR
VERSION:2.0
PRODID:-//Life Vision Academy - ECPv6.15.16//NONSGML v1.0//EN
CALSCALE:GREGORIAN
METHOD:PUBLISH
X-ORIGINAL-URL:https://www.lifevisionacademy.com
X-WR-CALDESC:Events for Life Vision Academy
REFRESH-INTERVAL;VALUE=DURATION:PT1H
X-Robots-Tag:noindex
X-PUBLISHED-TTL:PT1H
BEGIN:VTIMEZONE
TZID:America/New_York
BEGIN:DAYLIGHT
TZOFFSETFROM:-0500
TZOFFSETTO:-0400
TZNAME:EDT
DTSTART:20250309T070000
END:DAYLIGHT
BEGIN:STANDARD
TZOFFSETFROM:-0400
TZOFFSETTO:-0500
TZNAME:EST
DTSTART:20251102T060000
END:STANDARD
BEGIN:DAYLIGHT
TZOFFSETFROM:-0500
TZOFFSETTO:-0400
TZNAME:EDT
DTSTART:20260308T070000
END:DAYLIGHT
BEGIN:STANDARD
TZOFFSETFROM:-0400
TZOFFSETTO:-0500
TZNAME:EST
DTSTART:20261101T060000
END:STANDARD
BEGIN:DAYLIGHT
TZOFFSETFROM:-0500
TZOFFSETTO:-0400
TZNAME:EDT
DTSTART:20270314T070000
END:DAYLIGHT
BEGIN:STANDARD
TZOFFSETFROM:-0400
TZOFFSETTO:-0500
TZNAME:EST
DTSTART:20271107T060000
END:STANDARD
END:VTIMEZONE
BEGIN:VEVENT
DTSTART;TZID=America/New_York:20260427T170000
DTEND;TZID=America/New_York:20260427T180000
DTSTAMP:20260421T043350
CREATED:20260205T202100Z
LAST-MODIFIED:20260205T202100Z
UID:16248-1777309200-1777312800@www.lifevisionacademy.com
SUMMARY:Life Vision Mentoring
DESCRIPTION:Tue 2026-04-28 9:00 AM (NZST)
URL:https://www.lifevisionacademy.com/event/life-vision-mentoring-7/
END:VEVENT
BEGIN:VEVENT
DTSTART;TZID=America/New_York:20260428T170000
DTEND;TZID=America/New_York:20260428T180000
DTSTAMP:20260421T043350
CREATED:20260205T202100Z
LAST-MODIFIED:20260205T202100Z
UID:16249-1777395600-1777399200@www.lifevisionacademy.com
SUMMARY:Global Vision Mentoring
DESCRIPTION:Wed 2026-04-29 9:00 AM (NZST)
URL:https://www.lifevisionacademy.com/event/global-vision-mentoring-6/
END:VEVENT
BEGIN:VEVENT
DTSTART;TZID=America/New_York:20260511T170000
DTEND;TZID=America/New_York:20260511T180000
DTSTAMP:20260421T043350
CREATED:20260205T202101Z
LAST-MODIFIED:20260205T202101Z
UID:16250-1778518800-1778522400@www.lifevisionacademy.com
SUMMARY:Life Vision Mentoring
DESCRIPTION:Tue 2026-05-12 9:00 AM (NZST)
URL:https://www.lifevisionacademy.com/event/life-vision-mentoring-8/
END:VEVENT
BEGIN:VEVENT
DTSTART;TZID=America/New_York:20260512T170000
DTEND;TZID=America/New_York:20260512T180000
DTSTAMP:20260421T043350
CREATED:20260205T202101Z
LAST-MODIFIED:20260205T202101Z
UID:16251-1778605200-1778608800@www.lifevisionacademy.com
SUMMARY:Global Vision Mentoring
DESCRIPTION:Wed 2026-05-13 9:00 AM (NZST)
URL:https://www.lifevisionacademy.com/event/global-vision-mentoring-7/
END:VEVENT
BEGIN:VEVENT
DTSTART;TZID=America/New_York:20260525T170000
DTEND;TZID=America/New_York:20260525T180000
DTSTAMP:20260421T043350
CREATED:20260205T202111Z
LAST-MODIFIED:20260205T202111Z
UID:16252-1779728400-1779732000@www.lifevisionacademy.com
SUMMARY:Life Vision Mentoring
DESCRIPTION:Tue 2026-05-26 9:00 AM (NZST)
URL:https://www.lifevisionacademy.com/event/life-vision-mentoring-9/
END:VEVENT
BEGIN:VEVENT
DTSTART;TZID=America/New_York:20260526T170000
DTEND;TZID=America/New_York:20260526T180000
DTSTAMP:20260421T043350
CREATED:20260205T202111Z
LAST-MODIFIED:20260205T202111Z
UID:16253-1779814800-1779818400@www.lifevisionacademy.com
SUMMARY:Global Vision Mentoring
DESCRIPTION:Wed 2026-05-27 9:00 AM (NZST)
URL:https://www.lifevisionacademy.com/event/global-vision-mentoring-8/
END:VEVENT
BEGIN:VEVENT
DTSTART;TZID=America/New_York:20260608T170000
DTEND;TZID=America/New_York:20260608T180000
DTSTAMP:20260421T043350
CREATED:20260205T202111Z
LAST-MODIFIED:20260205T202111Z
UID:16254-1780938000-1780941600@www.lifevisionacademy.com
SUMMARY:Life Vision Mentoring
DESCRIPTION:Tue 2026-06-09 9:00 AM (NZST)
URL:https://www.lifevisionacademy.com/event/life-vision-mentoring-10/
END:VEVENT
BEGIN:VEVENT
DTSTART;TZID=America/New_York:20260609T170000
DTEND;TZID=America/New_York:20260609T180000
DTSTAMP:20260421T043350
CREATED:20260205T202111Z
LAST-MODIFIED:20260205T202111Z
UID:16255-1781024400-1781028000@www.lifevisionacademy.com
SUMMARY:Global Vision Mentoring
DESCRIPTION:Wed 2026-06-10 9:00 AM (NZST)
URL:https://www.lifevisionacademy.com/event/global-vision-mentoring-9/
END:VEVENT
BEGIN:VEVENT
DTSTART;TZID=America/New_York:20260622T170000
DTEND;TZID=America/New_York:20260622T180000
DTSTAMP:20260421T043350
CREATED:20260205T202111Z
LAST-MODIFIED:20260205T202111Z
UID:16256-1782147600-1782151200@www.lifevisionacademy.com
SUMMARY:Life Vision Mentoring
DESCRIPTION:Tue 2026-06-23 9:00 AM (NZST)
URL:https://www.lifevisionacademy.com/event/life-vision-mentoring-11/
END:VEVENT
BEGIN:VEVENT
DTSTART;TZID=America/New_York:20260623T170000
DTEND;TZID=America/New_York:20260623T180000
DTSTAMP:20260421T043350
CREATED:20260205T202118Z
LAST-MODIFIED:20260205T202118Z
UID:16257-1782234000-1782237600@www.lifevisionacademy.com
SUMMARY:Global Vision Mentoring
DESCRIPTION:Wed 2026-06-24 9:00 AM (NZST)
URL:https://www.lifevisionacademy.com/event/global-vision-mentoring-10/
END:VEVENT
BEGIN:VEVENT
DTSTART;TZID=America/New_York:20260629T170000
DTEND;TZID=America/New_York:20260629T180000
DTSTAMP:20260421T043350
CREATED:20260205T202118Z
LAST-MODIFIED:20260205T202118Z
UID:16258-1782752400-1782756000@www.lifevisionacademy.com
SUMMARY:Life Vision Mentoring
DESCRIPTION:Tue 2026-06-30 9:00 AM (NZST)
URL:https://www.lifevisionacademy.com/event/life-vision-mentoring-12/
END:VEVENT
BEGIN:VEVENT
DTSTART;TZID=America/New_York:20260713T170000
DTEND;TZID=America/New_York:20260713T180000
DTSTAMP:20260421T043350
CREATED:20260205T202118Z
LAST-MODIFIED:20260205T202118Z
UID:16259-1783962000-1783965600@www.lifevisionacademy.com
SUMMARY:Life Vision Mentoring
DESCRIPTION:Tue 2026-07-14 9:00 AM (NZST)
URL:https://www.lifevisionacademy.com/event/life-vision-mentoring-13/
END:VEVENT
BEGIN:VEVENT
DTSTART;TZID=America/New_York:20260714T170000
DTEND;TZID=America/New_York:20260714T180000
DTSTAMP:20260421T043350
CREATED:20260205T202119Z
LAST-MODIFIED:20260205T202119Z
UID:16260-1784048400-1784052000@www.lifevisionacademy.com
SUMMARY:Global Vision Mentoring
DESCRIPTION:Wed 2026-07-15 9:00 AM (NZST)
URL:https://www.lifevisionacademy.com/event/global-vision-mentoring-11/
END:VEVENT
BEGIN:VEVENT
DTSTART;TZID=America/New_York:20260727T170000
DTEND;TZID=America/New_York:20260727T180000
DTSTAMP:20260421T043350
CREATED:20260205T202119Z
LAST-MODIFIED:20260205T202119Z
UID:16261-1785171600-1785175200@www.lifevisionacademy.com
SUMMARY:Life Vision Mentoring
DESCRIPTION:Tue 2026-07-28 9:00 AM (NZST)
URL:https://www.lifevisionacademy.com/event/life-vision-mentoring-14/
END:VEVENT
BEGIN:VEVENT
DTSTART;TZID=America/New_York:20260728T170000
DTEND;TZID=America/New_York:20260728T180000
DTSTAMP:20260421T043350
CREATED:20260205T202141Z
LAST-MODIFIED:20260205T202141Z
UID:16262-1785258000-1785261600@www.lifevisionacademy.com
SUMMARY:Global Vision Mentoring
DESCRIPTION:Wed 2026-07-29 9:00 AM (NZST)
URL:https://www.lifevisionacademy.com/event/global-vision-mentoring-12/
END:VEVENT
BEGIN:VEVENT
DTSTART;TZID=America/New_York:20260810T170000
DTEND;TZID=America/New_York:20260810T180000
DTSTAMP:20260421T043350
CREATED:20260205T202141Z
LAST-MODIFIED:20260205T202141Z
UID:16263-1786381200-1786384800@www.lifevisionacademy.com
SUMMARY:Life Vision Mentoring
DESCRIPTION:Tue 2026-08-11 9:00 AM (NZST)
URL:https://www.lifevisionacademy.com/event/life-vision-mentoring-15/
END:VEVENT
BEGIN:VEVENT
DTSTART;TZID=America/New_York:20260811T170000
DTEND;TZID=America/New_York:20260811T180000
DTSTAMP:20260421T043350
CREATED:20260205T202141Z
LAST-MODIFIED:20260205T202141Z
UID:16264-1786467600-1786471200@www.lifevisionacademy.com
SUMMARY:Global Vision Mentoring
DESCRIPTION:Wed 2026-08-12 9:00 AM (NZST)
URL:https://www.lifevisionacademy.com/event/global-vision-mentoring-13/
END:VEVENT
BEGIN:VEVENT
DTSTART;TZID=America/New_York:20260824T170000
DTEND;TZID=America/New_York:20260824T180000
DTSTAMP:20260421T043350
CREATED:20260205T202141Z
LAST-MODIFIED:20260205T202141Z
UID:16265-1787590800-1787594400@www.lifevisionacademy.com
SUMMARY:Life Vision Mentoring
DESCRIPTION:Tue 2026-08-25 9:00 AM (NZST)
URL:https://www.lifevisionacademy.com/event/life-vision-mentoring-16/
END:VEVENT
BEGIN:VEVENT
DTSTART;TZID=America/New_York:20260825T170000
DTEND;TZID=America/New_York:20260825T180000
DTSTAMP:20260421T043350
CREATED:20260205T202141Z
LAST-MODIFIED:20260205T202141Z
UID:16266-1787677200-1787680800@www.lifevisionacademy.com
SUMMARY:Global Vision Mentoring
DESCRIPTION:Wed 2026-08-26 9:00 AM (NZST)
URL:https://www.lifevisionacademy.com/event/global-vision-mentoring-14/
END:VEVENT
BEGIN:VEVENT
DTSTART;TZID=America/New_York:20260831T170000
DTEND;TZID=America/New_York:20260831T180000
DTSTAMP:20260421T043350
CREATED:20260205T202204Z
LAST-MODIFIED:20260205T202204Z
UID:16267-1788195600-1788199200@www.lifevisionacademy.com
SUMMARY:Life Vision Mentoring
DESCRIPTION:Tue 2026-09-01 9:00 AM (NZST)
URL:https://www.lifevisionacademy.com/event/life-vision-mentoring-17/
END:VEVENT
BEGIN:VEVENT
DTSTART;TZID=America/New_York:20260908T170000
DTEND;TZID=America/New_York:20260908T180000
DTSTAMP:20260421T043350
CREATED:20260205T202205Z
LAST-MODIFIED:20260205T202205Z
UID:16268-1788886800-1788890400@www.lifevisionacademy.com
SUMMARY:Global Vision Mentoring
DESCRIPTION:Wed 2026-09-09 9:00 AM (NZST)
URL:https://www.lifevisionacademy.com/event/global-vision-mentoring-15/
END:VEVENT
BEGIN:VEVENT
DTSTART;TZID=America/New_York:20260914T170000
DTEND;TZID=America/New_York:20260914T180000
DTSTAMP:20260421T043350
CREATED:20260205T202205Z
LAST-MODIFIED:20260205T202205Z
UID:16269-1789405200-1789408800@www.lifevisionacademy.com
SUMMARY:Life Vision Mentoring
DESCRIPTION:Tue 2026-09-15 9:00 AM (NZST)
URL:https://www.lifevisionacademy.com/event/life-vision-mentoring-18/
END:VEVENT
BEGIN:VEVENT
DTSTART;TZID=America/New_York:20260922T170000
DTEND;TZID=America/New_York:20260922T180000
DTSTAMP:20260421T043350
CREATED:20260205T202205Z
LAST-MODIFIED:20260205T202205Z
UID:16270-1790096400-1790100000@www.lifevisionacademy.com
SUMMARY:Global Vision Mentoring
DESCRIPTION:Wed 2026-09-23 9:00 AM (NZST)
URL:https://www.lifevisionacademy.com/event/global-vision-mentoring-16/
END:VEVENT
BEGIN:VEVENT
DTSTART;TZID=America/New_York:20260928T170000
DTEND;TZID=America/New_York:20260928T180000
DTSTAMP:20260421T043350
CREATED:20260205T202205Z
LAST-MODIFIED:20260205T202205Z
UID:16271-1790614800-1790618400@www.lifevisionacademy.com
SUMMARY:Life Vision Mentoring
DESCRIPTION:Tue 2026-09-29 10:00 AM (NZDT)
URL:https://www.lifevisionacademy.com/event/life-vision-mentoring-19/
END:VEVENT
BEGIN:VEVENT
DTSTART;TZID=America/New_York:20261012T170000
DTEND;TZID=America/New_York:20261012T180000
DTSTAMP:20260421T043350
CREATED:20260205T202234Z
LAST-MODIFIED:20260205T202234Z
UID:16272-1791824400-1791828000@www.lifevisionacademy.com
SUMMARY:Life Vision Mentoring
DESCRIPTION:Tue 2026-10-13 10:00 AM (NZDT)
URL:https://www.lifevisionacademy.com/event/life-vision-mentoring-20/
END:VEVENT
BEGIN:VEVENT
DTSTART;TZID=America/New_York:20261013T170000
DTEND;TZID=America/New_York:20261013T180000
DTSTAMP:20260421T043350
CREATED:20260205T202234Z
LAST-MODIFIED:20260205T202234Z
UID:16273-1791910800-1791914400@www.lifevisionacademy.com
SUMMARY:Global Vision Mentoring
DESCRIPTION:Wed 2026-10-14 10:00 AM (NZDT)
URL:https://www.lifevisionacademy.com/event/global-vision-mentoring-17/
END:VEVENT
BEGIN:VEVENT
DTSTART;TZID=America/New_York:20261026T170000
DTEND;TZID=America/New_York:20261026T180000
DTSTAMP:20260421T043350
CREATED:20260205T202234Z
LAST-MODIFIED:20260205T202234Z
UID:16274-1793034000-1793037600@www.lifevisionacademy.com
SUMMARY:Life Vision Mentoring
DESCRIPTION:Tue 2026-10-27 10:00 AM (NZDT)
URL:https://www.lifevisionacademy.com/event/life-vision-mentoring-21/
END:VEVENT
BEGIN:VEVENT
DTSTART;TZID=America/New_York:20261027T170000
DTEND;TZID=America/New_York:20261027T180000
DTSTAMP:20260421T043350
CREATED:20260205T202234Z
LAST-MODIFIED:20260205T202234Z
UID:16275-1793120400-1793124000@www.lifevisionacademy.com
SUMMARY:Global Vision Mentoring
DESCRIPTION:Wed 2026-10-28 10:00 AM (NZDT)
URL:https://www.lifevisionacademy.com/event/global-vision-mentoring-18/
END:VEVENT
BEGIN:VEVENT
DTSTART;TZID=America/New_York:20261109T170000
DTEND;TZID=America/New_York:20261109T180000
DTSTAMP:20260421T043350
CREATED:20260205T202234Z
LAST-MODIFIED:20260205T202234Z
UID:16276-1794243600-1794247200@www.lifevisionacademy.com
SUMMARY:Life Vision Mentoring
DESCRIPTION:Tue 2026-11-10 11:00 AM (NZDT)
URL:https://www.lifevisionacademy.com/event/life-vision-mentoring-22/
END:VEVENT
BEGIN:VEVENT
DTSTART;TZID=America/New_York:20261110T170000
DTEND;TZID=America/New_York:20261110T180000
DTSTAMP:20260421T043350
CREATED:20260205T202241Z
LAST-MODIFIED:20260205T202241Z
UID:16277-1794330000-1794333600@www.lifevisionacademy.com
SUMMARY:Global Vision Mentoring
DESCRIPTION:Wed 2026-11-11 11:00 AM (NZDT)
URL:https://www.lifevisionacademy.com/event/global-vision-mentoring-19/
END:VEVENT
END:VCALENDAR