BEGIN:VCALENDAR
VERSION:2.0
PRODID:-//Life Vision Academy - ECPv6.15.16//NONSGML v1.0//EN
CALSCALE:GREGORIAN
METHOD:PUBLISH
X-ORIGINAL-URL:https://www.lifevisionacademy.com
X-WR-CALDESC:Events for Life Vision Academy
REFRESH-INTERVAL;VALUE=DURATION:PT1H
X-Robots-Tag:noindex
X-PUBLISHED-TTL:PT1H
BEGIN:VTIMEZONE
TZID:America/New_York
BEGIN:DAYLIGHT
TZOFFSETFROM:-0500
TZOFFSETTO:-0400
TZNAME:EDT
DTSTART:20250309T070000
END:DAYLIGHT
BEGIN:STANDARD
TZOFFSETFROM:-0400
TZOFFSETTO:-0500
TZNAME:EST
DTSTART:20251102T060000
END:STANDARD
BEGIN:DAYLIGHT
TZOFFSETFROM:-0500
TZOFFSETTO:-0400
TZNAME:EDT
DTSTART:20260308T070000
END:DAYLIGHT
BEGIN:STANDARD
TZOFFSETFROM:-0400
TZOFFSETTO:-0500
TZNAME:EST
DTSTART:20261101T060000
END:STANDARD
BEGIN:DAYLIGHT
TZOFFSETFROM:-0500
TZOFFSETTO:-0400
TZNAME:EDT
DTSTART:20270314T070000
END:DAYLIGHT
BEGIN:STANDARD
TZOFFSETFROM:-0400
TZOFFSETTO:-0500
TZNAME:EST
DTSTART:20271107T060000
END:STANDARD
BEGIN:DAYLIGHT
TZOFFSETFROM:-0500
TZOFFSETTO:-0400
TZNAME:EDT
DTSTART:20280312T070000
END:DAYLIGHT
BEGIN:STANDARD
TZOFFSETFROM:-0400
TZOFFSETTO:-0500
TZNAME:EST
DTSTART:20281105T060000
END:STANDARD
END:VTIMEZONE
BEGIN:VEVENT
DTSTART;TZID=America/New_York:20261012T170000
DTEND;TZID=America/New_York:20261012T180000
DTSTAMP:20260421T075714
CREATED:20260205T202234Z
LAST-MODIFIED:20260205T202234Z
UID:16272-1791824400-1791828000@www.lifevisionacademy.com
SUMMARY:Life Vision Mentoring
DESCRIPTION:Tue 2026-10-13 10:00 AM (NZDT)
URL:https://www.lifevisionacademy.com/event/life-vision-mentoring-20/
END:VEVENT
BEGIN:VEVENT
DTSTART;TZID=America/New_York:20261013T170000
DTEND;TZID=America/New_York:20261013T180000
DTSTAMP:20260421T075714
CREATED:20260205T202234Z
LAST-MODIFIED:20260205T202234Z
UID:16273-1791910800-1791914400@www.lifevisionacademy.com
SUMMARY:Global Vision Mentoring
DESCRIPTION:Wed 2026-10-14 10:00 AM (NZDT)
URL:https://www.lifevisionacademy.com/event/global-vision-mentoring-17/
END:VEVENT
BEGIN:VEVENT
DTSTART;TZID=America/New_York:20261026T170000
DTEND;TZID=America/New_York:20261026T180000
DTSTAMP:20260421T075714
CREATED:20260205T202234Z
LAST-MODIFIED:20260205T202234Z
UID:16274-1793034000-1793037600@www.lifevisionacademy.com
SUMMARY:Life Vision Mentoring
DESCRIPTION:Tue 2026-10-27 10:00 AM (NZDT)
URL:https://www.lifevisionacademy.com/event/life-vision-mentoring-21/
END:VEVENT
BEGIN:VEVENT
DTSTART;TZID=America/New_York:20261027T170000
DTEND;TZID=America/New_York:20261027T180000
DTSTAMP:20260421T075714
CREATED:20260205T202234Z
LAST-MODIFIED:20260205T202234Z
UID:16275-1793120400-1793124000@www.lifevisionacademy.com
SUMMARY:Global Vision Mentoring
DESCRIPTION:Wed 2026-10-28 10:00 AM (NZDT)
URL:https://www.lifevisionacademy.com/event/global-vision-mentoring-18/
END:VEVENT
BEGIN:VEVENT
DTSTART;TZID=America/New_York:20261109T170000
DTEND;TZID=America/New_York:20261109T180000
DTSTAMP:20260421T075714
CREATED:20260205T202234Z
LAST-MODIFIED:20260205T202234Z
UID:16276-1794243600-1794247200@www.lifevisionacademy.com
SUMMARY:Life Vision Mentoring
DESCRIPTION:Tue 2026-11-10 11:00 AM (NZDT)
URL:https://www.lifevisionacademy.com/event/life-vision-mentoring-22/
END:VEVENT
BEGIN:VEVENT
DTSTART;TZID=America/New_York:20261110T170000
DTEND;TZID=America/New_York:20261110T180000
DTSTAMP:20260421T075714
CREATED:20260205T202241Z
LAST-MODIFIED:20260205T202241Z
UID:16277-1794330000-1794333600@www.lifevisionacademy.com
SUMMARY:Global Vision Mentoring
DESCRIPTION:Wed 2026-11-11 11:00 AM (NZDT)
URL:https://www.lifevisionacademy.com/event/global-vision-mentoring-19/
END:VEVENT
BEGIN:VEVENT
DTSTART;TZID=America/New_York:20261123T170000
DTEND;TZID=America/New_York:20261123T180000
DTSTAMP:20260421T075714
CREATED:20260205T202241Z
LAST-MODIFIED:20260205T202241Z
UID:16278-1795453200-1795456800@www.lifevisionacademy.com
SUMMARY:Life Vision Mentoring
DESCRIPTION:Tue 2026-11-24 11:00 AM (NZDT)
URL:https://www.lifevisionacademy.com/event/life-vision-mentoring-23/
END:VEVENT
BEGIN:VEVENT
DTSTART;TZID=America/New_York:20261124T170000
DTEND;TZID=America/New_York:20261124T180000
DTSTAMP:20260421T075714
CREATED:20260205T202241Z
LAST-MODIFIED:20260205T202241Z
UID:16279-1795539600-1795543200@www.lifevisionacademy.com
SUMMARY:Global Vision Mentoring
DESCRIPTION:Wed 2026-11-25 11:00 AM (NZDT)
URL:https://www.lifevisionacademy.com/event/global-vision-mentoring-20/
END:VEVENT
BEGIN:VEVENT
DTSTART;TZID=America/New_York:20261130T170000
DTEND;TZID=America/New_York:20261130T180000
DTSTAMP:20260421T075714
CREATED:20260205T202241Z
LAST-MODIFIED:20260205T202241Z
UID:16280-1796058000-1796061600@www.lifevisionacademy.com
SUMMARY:Life Vision Mentoring
DESCRIPTION:Tue 2026-12-01 11:00 AM (NZDT)
URL:https://www.lifevisionacademy.com/event/life-vision-mentoring-24/
END:VEVENT
BEGIN:VEVENT
DTSTART;TZID=America/New_York:20261208T170000
DTEND;TZID=America/New_York:20261208T180000
DTSTAMP:20260421T075714
CREATED:20260205T202242Z
LAST-MODIFIED:20260205T202242Z
UID:16281-1796749200-1796752800@www.lifevisionacademy.com
SUMMARY:Global Vision Mentoring
DESCRIPTION:Wed 2026-12-09 11:00 AM (NZDT)
URL:https://www.lifevisionacademy.com/event/global-vision-mentoring-21/
END:VEVENT
BEGIN:VEVENT
DTSTART;TZID=America/New_York:20261214T170000
DTEND;TZID=America/New_York:20261214T180000
DTSTAMP:20260421T075714
CREATED:20260205T202249Z
LAST-MODIFIED:20260205T202250Z
UID:16282-1797267600-1797271200@www.lifevisionacademy.com
SUMMARY:Life Vision Mentoring
DESCRIPTION:Tue 2026-12-15 11:00 AM (NZDT)
URL:https://www.lifevisionacademy.com/event/life-vision-mentoring-25/
END:VEVENT
BEGIN:VEVENT
DTSTART;TZID=America/New_York:20261222T170000
DTEND;TZID=America/New_York:20261222T180000
DTSTAMP:20260421T075714
CREATED:20260205T202249Z
LAST-MODIFIED:20260205T202250Z
UID:16283-1797958800-1797962400@www.lifevisionacademy.com
SUMMARY:Global Vision Mentoring
DESCRIPTION:Wed 2026-12-23 11:00 AM (NZDT)
URL:https://www.lifevisionacademy.com/event/global-vision-mentoring-22/
END:VEVENT
BEGIN:VEVENT
DTSTART;TZID=America/New_York:20261228T170000
DTEND;TZID=America/New_York:20261228T180000
DTSTAMP:20260421T075714
CREATED:20260205T202249Z
LAST-MODIFIED:20260205T202250Z
UID:16284-1798477200-1798480800@www.lifevisionacademy.com
SUMMARY:Life Vision Mentoring
DESCRIPTION:Tue 2026-12-29 11:00 AM (NZDT)
URL:https://www.lifevisionacademy.com/event/life-vision-mentoring-26/
END:VEVENT
BEGIN:VEVENT
DTSTART;TZID=America/New_York:20270111T170000
DTEND;TZID=America/New_York:20270111T180000
DTSTAMP:20260421T075714
CREATED:20260205T202249Z
LAST-MODIFIED:20260205T202250Z
UID:16285-1799686800-1799690400@www.lifevisionacademy.com
SUMMARY:Life Vision Mentoring
DESCRIPTION:Tue 2027-01-12 11:00 AM (NZDT)
URL:https://www.lifevisionacademy.com/event/life-vision-mentoring-27/
END:VEVENT
BEGIN:VEVENT
DTSTART;TZID=America/New_York:20270112T170000
DTEND;TZID=America/New_York:20270112T180000
DTSTAMP:20260421T075714
CREATED:20260205T202249Z
LAST-MODIFIED:20260205T202251Z
UID:16286-1799773200-1799776800@www.lifevisionacademy.com
SUMMARY:Global Vision Mentoring
DESCRIPTION:Wed 2027-01-13 11:00 AM (NZDT)
URL:https://www.lifevisionacademy.com/event/global-vision-mentoring-23/
END:VEVENT
BEGIN:VEVENT
DTSTART;TZID=America/New_York:20270125T170000
DTEND;TZID=America/New_York:20270125T180000
DTSTAMP:20260421T075714
CREATED:20260205T202257Z
LAST-MODIFIED:20260205T202257Z
UID:16292-1800896400-1800900000@www.lifevisionacademy.com
SUMMARY:Life Vision Mentoring
DESCRIPTION:Tue 2027-01-26 11:00 AM (NZDT)
URL:https://www.lifevisionacademy.com/event/life-vision-mentoring-28/
END:VEVENT
BEGIN:VEVENT
DTSTART;TZID=America/New_York:20270126T170000
DTEND;TZID=America/New_York:20270126T180000
DTSTAMP:20260421T075714
CREATED:20260205T202257Z
LAST-MODIFIED:20260205T202257Z
UID:16293-1800982800-1800986400@www.lifevisionacademy.com
SUMMARY:Global Vision Mentoring
DESCRIPTION:Wed 2027-01-27 11:00 AM (NZDT)
URL:https://www.lifevisionacademy.com/event/global-vision-mentoring-24/
END:VEVENT
BEGIN:VEVENT
DTSTART;TZID=America/New_York:20270208T170000
DTEND;TZID=America/New_York:20270208T180000
DTSTAMP:20260421T075714
CREATED:20260205T202257Z
LAST-MODIFIED:20260205T202257Z
UID:16294-1802106000-1802109600@www.lifevisionacademy.com
SUMMARY:Life Vision Mentoring
DESCRIPTION:Tue 2027-02-09 11:00 AM (NZDT)
URL:https://www.lifevisionacademy.com/event/life-vision-mentoring-29/
END:VEVENT
BEGIN:VEVENT
DTSTART;TZID=America/New_York:20270209T170000
DTEND;TZID=America/New_York:20270209T180000
DTSTAMP:20260421T075714
CREATED:20260205T202257Z
LAST-MODIFIED:20260205T202257Z
UID:16295-1802192400-1802196000@www.lifevisionacademy.com
SUMMARY:Global Vision Mentoring
DESCRIPTION:Wed 2027-02-10 11:00 AM (NZDT)
URL:https://www.lifevisionacademy.com/event/global-vision-mentoring-25/
END:VEVENT
BEGIN:VEVENT
DTSTART;TZID=America/New_York:20270222T170000
DTEND;TZID=America/New_York:20270222T180000
DTSTAMP:20260421T075714
CREATED:20260205T202257Z
LAST-MODIFIED:20260205T202257Z
UID:16296-1803315600-1803319200@www.lifevisionacademy.com
SUMMARY:Life Vision Mentoring
DESCRIPTION:Tue 2027-02-23 11:00 AM (NZDT)
URL:https://www.lifevisionacademy.com/event/life-vision-mentoring-30/
END:VEVENT
BEGIN:VEVENT
DTSTART;TZID=America/New_York:20270223T170000
DTEND;TZID=America/New_York:20270223T180000
DTSTAMP:20260421T075714
CREATED:20260205T202326Z
LAST-MODIFIED:20260205T202326Z
UID:16297-1803402000-1803405600@www.lifevisionacademy.com
SUMMARY:Global Vision Mentoring
DESCRIPTION:Wed 2027-02-24 11:00 AM (NZDT)
URL:https://www.lifevisionacademy.com/event/global-vision-mentoring-26/
END:VEVENT
BEGIN:VEVENT
DTSTART;TZID=America/New_York:20270308T170000
DTEND;TZID=America/New_York:20270308T180000
DTSTAMP:20260421T075714
CREATED:20260205T202326Z
LAST-MODIFIED:20260205T202326Z
UID:16298-1804525200-1804528800@www.lifevisionacademy.com
SUMMARY:Life Vision Mentoring
DESCRIPTION:Tue 2027-03-09 11:00 AM (NZDT)
URL:https://www.lifevisionacademy.com/event/life-vision-mentoring-31/
END:VEVENT
BEGIN:VEVENT
DTSTART;TZID=America/New_York:20270309T170000
DTEND;TZID=America/New_York:20270309T180000
DTSTAMP:20260421T075714
CREATED:20260205T202326Z
LAST-MODIFIED:20260205T202326Z
UID:16299-1804611600-1804615200@www.lifevisionacademy.com
SUMMARY:Global Vision Mentoring
DESCRIPTION:Wed 2027-03-10 11:00 AM (NZDT)
URL:https://www.lifevisionacademy.com/event/global-vision-mentoring-27/
END:VEVENT
BEGIN:VEVENT
DTSTART;TZID=America/New_York:20270322T170000
DTEND;TZID=America/New_York:20270322T180000
DTSTAMP:20260421T075714
CREATED:20260205T202326Z
LAST-MODIFIED:20260205T202326Z
UID:16300-1805734800-1805738400@www.lifevisionacademy.com
SUMMARY:Life Vision Mentoring
DESCRIPTION:Tue 2027-03-23 10:00 AM (NZDT)
URL:https://www.lifevisionacademy.com/event/life-vision-mentoring-32/
END:VEVENT
BEGIN:VEVENT
DTSTART;TZID=America/New_York:20270323T170000
DTEND;TZID=America/New_York:20270323T180000
DTSTAMP:20260421T075714
CREATED:20260205T202326Z
LAST-MODIFIED:20260205T202326Z
UID:16301-1805821200-1805824800@www.lifevisionacademy.com
SUMMARY:Global Vision Mentoring
DESCRIPTION:Wed 2027-03-24 10:00 AM (NZDT)
URL:https://www.lifevisionacademy.com/event/global-vision-mentoring-28/
END:VEVENT
BEGIN:VEVENT
DTSTART;TZID=America/New_York:20270329T170000
DTEND;TZID=America/New_York:20270329T180000
DTSTAMP:20260421T075714
CREATED:20260205T202330Z
LAST-MODIFIED:20260205T202330Z
UID:16302-1806339600-1806343200@www.lifevisionacademy.com
SUMMARY:Life Vision Mentoring
DESCRIPTION:Tue 2027-03-30 10:00 AM (NZDT)
URL:https://www.lifevisionacademy.com/event/life-vision-mentoring-33/
END:VEVENT
BEGIN:VEVENT
DTSTART;TZID=America/New_York:20270412T170000
DTEND;TZID=America/New_York:20270412T180000
DTSTAMP:20260421T075714
CREATED:20260205T202330Z
LAST-MODIFIED:20260205T202330Z
UID:16303-1807549200-1807552800@www.lifevisionacademy.com
SUMMARY:Life Vision Mentoring
DESCRIPTION:Tue 2027-04-13 9:00 AM (NZST)
URL:https://www.lifevisionacademy.com/event/life-vision-mentoring-34/
END:VEVENT
BEGIN:VEVENT
DTSTART;TZID=America/New_York:20270413T170000
DTEND;TZID=America/New_York:20270413T180000
DTSTAMP:20260421T075714
CREATED:20260205T202330Z
LAST-MODIFIED:20260205T202330Z
UID:16304-1807635600-1807639200@www.lifevisionacademy.com
SUMMARY:Global Vision Mentoring
DESCRIPTION:Wed 2027-04-14 9:00 AM (NZST)
URL:https://www.lifevisionacademy.com/event/global-vision-mentoring-29/
END:VEVENT
BEGIN:VEVENT
DTSTART;TZID=America/New_York:20270426T170000
DTEND;TZID=America/New_York:20270426T180000
DTSTAMP:20260421T075714
CREATED:20260205T202330Z
LAST-MODIFIED:20260205T202330Z
UID:16305-1808758800-1808762400@www.lifevisionacademy.com
SUMMARY:Life Vision Mentoring
DESCRIPTION:Tue 2027-04-27 9:00 AM (NZST)
URL:https://www.lifevisionacademy.com/event/life-vision-mentoring-35/
END:VEVENT
BEGIN:VEVENT
DTSTART;TZID=America/New_York:20270427T170000
DTEND;TZID=America/New_York:20270427T180000
DTSTAMP:20260421T075714
CREATED:20260205T202330Z
LAST-MODIFIED:20260205T202330Z
UID:16306-1808845200-1808848800@www.lifevisionacademy.com
SUMMARY:Global Vision Mentoring
DESCRIPTION:Wed 2027-04-28 9:00 AM (NZST)
URL:https://www.lifevisionacademy.com/event/global-vision-mentoring-30/
END:VEVENT
END:VCALENDAR