BEGIN:VCALENDAR
VERSION:2.0
PRODID:-//Life Vision Academy - ECPv6.15.16//NONSGML v1.0//EN
CALSCALE:GREGORIAN
METHOD:PUBLISH
X-ORIGINAL-URL:https://www.lifevisionacademy.com
X-WR-CALDESC:Events for Life Vision Academy
REFRESH-INTERVAL;VALUE=DURATION:PT1H
X-Robots-Tag:noindex
X-PUBLISHED-TTL:PT1H
BEGIN:VTIMEZONE
TZID:America/New_York
BEGIN:DAYLIGHT
TZOFFSETFROM:-0500
TZOFFSETTO:-0400
TZNAME:EDT
DTSTART:20260308T070000
END:DAYLIGHT
BEGIN:STANDARD
TZOFFSETFROM:-0400
TZOFFSETTO:-0500
TZNAME:EST
DTSTART:20261101T060000
END:STANDARD
BEGIN:DAYLIGHT
TZOFFSETFROM:-0500
TZOFFSETTO:-0400
TZNAME:EDT
DTSTART:20270314T070000
END:DAYLIGHT
BEGIN:STANDARD
TZOFFSETFROM:-0400
TZOFFSETTO:-0500
TZNAME:EST
DTSTART:20271107T060000
END:STANDARD
BEGIN:DAYLIGHT
TZOFFSETFROM:-0500
TZOFFSETTO:-0400
TZNAME:EDT
DTSTART:20280312T070000
END:DAYLIGHT
BEGIN:STANDARD
TZOFFSETFROM:-0400
TZOFFSETTO:-0500
TZNAME:EST
DTSTART:20281105T060000
END:STANDARD
END:VTIMEZONE
BEGIN:VEVENT
DTSTART;TZID=America/New_York:20270323T170000
DTEND;TZID=America/New_York:20270323T180000
DTSTAMP:20260421T152139
CREATED:20260205T202326Z
LAST-MODIFIED:20260205T202326Z
UID:16301-1805821200-1805824800@www.lifevisionacademy.com
SUMMARY:Global Vision Mentoring
DESCRIPTION:Wed 2027-03-24 10:00 AM (NZDT)
URL:https://www.lifevisionacademy.com/event/global-vision-mentoring-28/
END:VEVENT
BEGIN:VEVENT
DTSTART;TZID=America/New_York:20270329T170000
DTEND;TZID=America/New_York:20270329T180000
DTSTAMP:20260421T152139
CREATED:20260205T202330Z
LAST-MODIFIED:20260205T202330Z
UID:16302-1806339600-1806343200@www.lifevisionacademy.com
SUMMARY:Life Vision Mentoring
DESCRIPTION:Tue 2027-03-30 10:00 AM (NZDT)
URL:https://www.lifevisionacademy.com/event/life-vision-mentoring-33/
END:VEVENT
BEGIN:VEVENT
DTSTART;TZID=America/New_York:20270412T170000
DTEND;TZID=America/New_York:20270412T180000
DTSTAMP:20260421T152139
CREATED:20260205T202330Z
LAST-MODIFIED:20260205T202330Z
UID:16303-1807549200-1807552800@www.lifevisionacademy.com
SUMMARY:Life Vision Mentoring
DESCRIPTION:Tue 2027-04-13 9:00 AM (NZST)
URL:https://www.lifevisionacademy.com/event/life-vision-mentoring-34/
END:VEVENT
BEGIN:VEVENT
DTSTART;TZID=America/New_York:20270413T170000
DTEND;TZID=America/New_York:20270413T180000
DTSTAMP:20260421T152139
CREATED:20260205T202330Z
LAST-MODIFIED:20260205T202330Z
UID:16304-1807635600-1807639200@www.lifevisionacademy.com
SUMMARY:Global Vision Mentoring
DESCRIPTION:Wed 2027-04-14 9:00 AM (NZST)
URL:https://www.lifevisionacademy.com/event/global-vision-mentoring-29/
END:VEVENT
BEGIN:VEVENT
DTSTART;TZID=America/New_York:20270426T170000
DTEND;TZID=America/New_York:20270426T180000
DTSTAMP:20260421T152139
CREATED:20260205T202330Z
LAST-MODIFIED:20260205T202330Z
UID:16305-1808758800-1808762400@www.lifevisionacademy.com
SUMMARY:Life Vision Mentoring
DESCRIPTION:Tue 2027-04-27 9:00 AM (NZST)
URL:https://www.lifevisionacademy.com/event/life-vision-mentoring-35/
END:VEVENT
BEGIN:VEVENT
DTSTART;TZID=America/New_York:20270427T170000
DTEND;TZID=America/New_York:20270427T180000
DTSTAMP:20260421T152139
CREATED:20260205T202330Z
LAST-MODIFIED:20260205T202330Z
UID:16306-1808845200-1808848800@www.lifevisionacademy.com
SUMMARY:Global Vision Mentoring
DESCRIPTION:Wed 2027-04-28 9:00 AM (NZST)
URL:https://www.lifevisionacademy.com/event/global-vision-mentoring-30/
END:VEVENT
BEGIN:VEVENT
DTSTART;TZID=America/New_York:20270510T170000
DTEND;TZID=America/New_York:20270510T180000
DTSTAMP:20260421T152139
CREATED:20260205T202344Z
LAST-MODIFIED:20260205T202344Z
UID:16307-1809968400-1809972000@www.lifevisionacademy.com
SUMMARY:Life Vision Mentoring
DESCRIPTION:Tue 2027-05-11 9:00 AM (NZST)
URL:https://www.lifevisionacademy.com/event/life-vision-mentoring-36/
END:VEVENT
BEGIN:VEVENT
DTSTART;TZID=America/New_York:20270511T170000
DTEND;TZID=America/New_York:20270511T180000
DTSTAMP:20260421T152139
CREATED:20260205T202344Z
LAST-MODIFIED:20260205T202344Z
UID:16308-1810054800-1810058400@www.lifevisionacademy.com
SUMMARY:Global Vision Mentoring
DESCRIPTION:Wed 2027-05-12 9:00 AM (NZST)
URL:https://www.lifevisionacademy.com/event/global-vision-mentoring-31/
END:VEVENT
BEGIN:VEVENT
DTSTART;TZID=America/New_York:20270524T170000
DTEND;TZID=America/New_York:20270524T180000
DTSTAMP:20260421T152139
CREATED:20260205T202344Z
LAST-MODIFIED:20260205T202344Z
UID:16309-1811178000-1811181600@www.lifevisionacademy.com
SUMMARY:Life Vision Mentoring
DESCRIPTION:Tue 2027-05-25 9:00 AM (NZST)
URL:https://www.lifevisionacademy.com/event/life-vision-mentoring-37/
END:VEVENT
BEGIN:VEVENT
DTSTART;TZID=America/New_York:20270525T170000
DTEND;TZID=America/New_York:20270525T180000
DTSTAMP:20260421T152139
CREATED:20260205T202345Z
LAST-MODIFIED:20260205T202345Z
UID:16310-1811264400-1811268000@www.lifevisionacademy.com
SUMMARY:Global Vision Mentoring
DESCRIPTION:Wed 2027-05-26 9:00 AM (NZST)
URL:https://www.lifevisionacademy.com/event/global-vision-mentoring-32/
END:VEVENT
BEGIN:VEVENT
DTSTART;TZID=America/New_York:20270531T170000
DTEND;TZID=America/New_York:20270531T180000
DTSTAMP:20260421T152139
CREATED:20260205T202345Z
LAST-MODIFIED:20260205T202345Z
UID:16311-1811782800-1811786400@www.lifevisionacademy.com
SUMMARY:Life Vision Mentoring
DESCRIPTION:Tue 2027-06-01 9:00 AM (NZST)
URL:https://www.lifevisionacademy.com/event/life-vision-mentoring-38/
END:VEVENT
BEGIN:VEVENT
DTSTART;TZID=America/New_York:20270608T170000
DTEND;TZID=America/New_York:20270608T180000
DTSTAMP:20260421T152139
CREATED:20260205T202349Z
LAST-MODIFIED:20260205T202349Z
UID:16312-1812474000-1812477600@www.lifevisionacademy.com
SUMMARY:Global Vision Mentoring
DESCRIPTION:Wed 2027-06-09 9:00 AM (NZST)
URL:https://www.lifevisionacademy.com/event/global-vision-mentoring-33/
END:VEVENT
BEGIN:VEVENT
DTSTART;TZID=America/New_York:20270614T170000
DTEND;TZID=America/New_York:20270614T180000
DTSTAMP:20260421T152139
CREATED:20260205T202349Z
LAST-MODIFIED:20260205T202349Z
UID:16313-1812992400-1812996000@www.lifevisionacademy.com
SUMMARY:Life Vision Mentoring
DESCRIPTION:Tue 2027-06-15 9:00 AM (NZST)
URL:https://www.lifevisionacademy.com/event/life-vision-mentoring-39/
END:VEVENT
BEGIN:VEVENT
DTSTART;TZID=America/New_York:20270622T170000
DTEND;TZID=America/New_York:20270622T180000
DTSTAMP:20260421T152139
CREATED:20260205T202349Z
LAST-MODIFIED:20260205T202349Z
UID:16314-1813683600-1813687200@www.lifevisionacademy.com
SUMMARY:Global Vision Mentoring
DESCRIPTION:Wed 2027-06-23 9:00 AM (NZST)
URL:https://www.lifevisionacademy.com/event/global-vision-mentoring-34/
END:VEVENT
BEGIN:VEVENT
DTSTART;TZID=America/New_York:20270628T170000
DTEND;TZID=America/New_York:20270628T180000
DTSTAMP:20260421T152139
CREATED:20260205T202349Z
LAST-MODIFIED:20260205T202349Z
UID:16315-1814202000-1814205600@www.lifevisionacademy.com
SUMMARY:Life Vision Mentoring
DESCRIPTION:Tue 2027-06-29 9:00 AM (NZST)
URL:https://www.lifevisionacademy.com/event/life-vision-mentoring-40/
END:VEVENT
BEGIN:VEVENT
DTSTART;TZID=America/New_York:20270712T170000
DTEND;TZID=America/New_York:20270712T180000
DTSTAMP:20260421T152139
CREATED:20260205T202349Z
LAST-MODIFIED:20260205T202349Z
UID:16316-1815411600-1815415200@www.lifevisionacademy.com
SUMMARY:Life Vision Mentoring
DESCRIPTION:Tue 2027-07-13 9:00 AM (NZST)
URL:https://www.lifevisionacademy.com/event/life-vision-mentoring-41/
END:VEVENT
BEGIN:VEVENT
DTSTART;TZID=America/New_York:20270713T170000
DTEND;TZID=America/New_York:20270713T180000
DTSTAMP:20260421T152139
CREATED:20260205T202401Z
LAST-MODIFIED:20260205T202401Z
UID:16317-1815498000-1815501600@www.lifevisionacademy.com
SUMMARY:Global Vision Mentoring
DESCRIPTION:Wed 2027-07-14 9:00 AM (NZST)
URL:https://www.lifevisionacademy.com/event/global-vision-mentoring-35/
END:VEVENT
BEGIN:VEVENT
DTSTART;TZID=America/New_York:20270726T170000
DTEND;TZID=America/New_York:20270726T180000
DTSTAMP:20260421T152139
CREATED:20260205T202401Z
LAST-MODIFIED:20260205T202401Z
UID:16318-1816621200-1816624800@www.lifevisionacademy.com
SUMMARY:Life Vision Mentoring
DESCRIPTION:Tue 2027-07-27 9:00 AM (NZST)
URL:https://www.lifevisionacademy.com/event/life-vision-mentoring-42/
END:VEVENT
BEGIN:VEVENT
DTSTART;TZID=America/New_York:20270727T170000
DTEND;TZID=America/New_York:20270727T180000
DTSTAMP:20260421T152139
CREATED:20260205T202401Z
LAST-MODIFIED:20260205T202401Z
UID:16319-1816707600-1816711200@www.lifevisionacademy.com
SUMMARY:Global Vision Mentoring
DESCRIPTION:Wed 2027-07-28 9:00 AM (NZST)
URL:https://www.lifevisionacademy.com/event/global-vision-mentoring-36/
END:VEVENT
BEGIN:VEVENT
DTSTART;TZID=America/New_York:20270809T170000
DTEND;TZID=America/New_York:20270809T180000
DTSTAMP:20260421T152139
CREATED:20260205T202401Z
LAST-MODIFIED:20260205T202401Z
UID:16320-1817830800-1817834400@www.lifevisionacademy.com
SUMMARY:Life Vision Mentoring
DESCRIPTION:Tue 2027-08-10 9:00 AM (NZST)
URL:https://www.lifevisionacademy.com/event/life-vision-mentoring-43/
END:VEVENT
BEGIN:VEVENT
DTSTART;TZID=America/New_York:20270810T170000
DTEND;TZID=America/New_York:20270810T180000
DTSTAMP:20260421T152139
CREATED:20260205T202402Z
LAST-MODIFIED:20260205T202402Z
UID:16321-1817917200-1817920800@www.lifevisionacademy.com
SUMMARY:Global Vision Mentoring
DESCRIPTION:Wed 2027-08-11 9:00 AM (NZST)
URL:https://www.lifevisionacademy.com/event/global-vision-mentoring-37/
END:VEVENT
BEGIN:VEVENT
DTSTART;TZID=America/New_York:20270823T170000
DTEND;TZID=America/New_York:20270823T180000
DTSTAMP:20260421T152139
CREATED:20260205T202404Z
LAST-MODIFIED:20260205T202404Z
UID:16322-1819040400-1819044000@www.lifevisionacademy.com
SUMMARY:Life Vision Mentoring
DESCRIPTION:Tue 2027-08-24 9:00 AM (NZST)
URL:https://www.lifevisionacademy.com/event/life-vision-mentoring-44/
END:VEVENT
BEGIN:VEVENT
DTSTART;TZID=America/New_York:20270824T170000
DTEND;TZID=America/New_York:20270824T180000
DTSTAMP:20260421T152139
CREATED:20260205T202404Z
LAST-MODIFIED:20260205T202404Z
UID:16323-1819126800-1819130400@www.lifevisionacademy.com
SUMMARY:Global Vision Mentoring
DESCRIPTION:Wed 2027-08-25 9:00 AM (NZST)
URL:https://www.lifevisionacademy.com/event/global-vision-mentoring-38/
END:VEVENT
BEGIN:VEVENT
DTSTART;TZID=America/New_York:20270830T170000
DTEND;TZID=America/New_York:20270830T180000
DTSTAMP:20260421T152139
CREATED:20260205T202404Z
LAST-MODIFIED:20260205T202404Z
UID:16324-1819645200-1819648800@www.lifevisionacademy.com
SUMMARY:Life Vision Mentoring
DESCRIPTION:Tue 2027-08-31 9:00 AM (NZST)
URL:https://www.lifevisionacademy.com/event/life-vision-mentoring-45/
END:VEVENT
BEGIN:VEVENT
DTSTART;TZID=America/New_York:20270913T170000
DTEND;TZID=America/New_York:20270913T180000
DTSTAMP:20260421T152139
CREATED:20260205T202405Z
LAST-MODIFIED:20260205T202405Z
UID:16325-1820854800-1820858400@www.lifevisionacademy.com
SUMMARY:Life Vision Mentoring
DESCRIPTION:Tue 2027-09-14 9:00 AM (NZST)
URL:https://www.lifevisionacademy.com/event/life-vision-mentoring-46/
END:VEVENT
BEGIN:VEVENT
DTSTART;TZID=America/New_York:20270914T170000
DTEND;TZID=America/New_York:20270914T180000
DTSTAMP:20260421T152139
CREATED:20260205T202405Z
LAST-MODIFIED:20260205T202405Z
UID:16326-1820941200-1820944800@www.lifevisionacademy.com
SUMMARY:Global Vision Mentoring
DESCRIPTION:Wed 2027-09-15 9:00 AM (NZST)
URL:https://www.lifevisionacademy.com/event/global-vision-mentoring-39/
END:VEVENT
BEGIN:VEVENT
DTSTART;TZID=America/New_York:20270927T170000
DTEND;TZID=America/New_York:20270927T180000
DTSTAMP:20260421T152139
CREATED:20260205T202419Z
LAST-MODIFIED:20260205T202419Z
UID:16327-1822064400-1822068000@www.lifevisionacademy.com
SUMMARY:Life Vision Mentoring
DESCRIPTION:Tue 2027-09-28 10:00 AM (NZDT)
URL:https://www.lifevisionacademy.com/event/life-vision-mentoring-47/
END:VEVENT
BEGIN:VEVENT
DTSTART;TZID=America/New_York:20270928T170000
DTEND;TZID=America/New_York:20270928T180000
DTSTAMP:20260421T152139
CREATED:20260205T202419Z
LAST-MODIFIED:20260205T202419Z
UID:16328-1822150800-1822154400@www.lifevisionacademy.com
SUMMARY:Global Vision Mentoring
DESCRIPTION:Wed 2027-09-29 10:00 AM (NZDT)
URL:https://www.lifevisionacademy.com/event/global-vision-mentoring-40/
END:VEVENT
BEGIN:VEVENT
DTSTART;TZID=America/New_York:20271011T170000
DTEND;TZID=America/New_York:20271011T180000
DTSTAMP:20260421T152139
CREATED:20260205T202419Z
LAST-MODIFIED:20260205T202419Z
UID:16329-1823274000-1823277600@www.lifevisionacademy.com
SUMMARY:Life Vision Mentoring
DESCRIPTION:Tue 2027-10-12 10:00 AM (NZDT)
URL:https://www.lifevisionacademy.com/event/life-vision-mentoring-48/
END:VEVENT
BEGIN:VEVENT
DTSTART;TZID=America/New_York:20271012T170000
DTEND;TZID=America/New_York:20271012T180000
DTSTAMP:20260421T152139
CREATED:20260205T202419Z
LAST-MODIFIED:20260205T202419Z
UID:16330-1823360400-1823364000@www.lifevisionacademy.com
SUMMARY:Global Vision Mentoring
DESCRIPTION:Wed 2027-10-13 10:00 AM (NZDT)
URL:https://www.lifevisionacademy.com/event/global-vision-mentoring-41/
END:VEVENT
END:VCALENDAR